BEGIN:VCALENDAR
VERSION:2.0
PRODID:Greensboro, NC Calendar Creator
METHOD:PUBLISH
BEGIN:VEVENT
DTSTAMP:20180109T031834
DTSTART:20120209T184500
DTEND:20120209T210000
SUMMARY:Dickens Bicentennial
DESCRIPTION:Watch this classic 1935 film&nbsp;adaptation of Dicken's story about the French Revolution starring Ronald Colman.
X-ALT-DESC;FMTTYPE=text/html:Watch this classic 1935 film&nbsp;adaptation of Dicken's story about the French Revolution starring Ronald Colman.
LOCATION:Hemphill Branch Library\, 2301 West Vandalia Road Greesnboro\, North Carolina 27407
CLASS:PUBLIC
END:VEVENT
END:VCALENDAR
