BEGIN:VCALENDAR
VERSION:2.0
PRODID:Greensboro, NC Calendar Creator
METHOD:PUBLISH
BEGIN:VEVENT
DTSTAMP:20180109T031834
DTSTART:20120228T160000
DTEND:20120228T170000
SUMMARY:Books & More
DESCRIPTION:Stories, art activities and fun for children in kindergarten through fifth&nbsp;grade.
X-ALT-DESC;FMTTYPE=text/html:Stories, art activities and fun for children in kindergarten through fifth&nbsp;grade.
LOCATION:Hemphill Branch Library\, 2301 West Vandalia Road Greensboro\, North Carolina 27407
CLASS:PUBLIC
END:VEVENT
END:VCALENDAR
