BEGIN:VCALENDAR
VERSION:2.0
PRODID:Greensboro, NC Calendar Creator
METHOD:PUBLISH
BEGIN:VEVENT
DTSTAMP:20180109T031834
DTSTART:20120228T190000
DTEND:20120228T203000
SUMMARY:Black History Month
DESCRIPTION:This film is about Barbara Smith Conrad, a gifted University of Texas music student who became a target of racial discrimination. Transcending her removal from the cast of a student opera, Conrad&nbsp;goes on to become an international opera star.
X-ALT-DESC;FMTTYPE=text/html:This film is about Barbara Smith Conrad, a gifted University of Texas music student who became a target of racial discrimination. Transcending her removal from the cast of a student opera, Conrad&nbsp;goes on to become an international opera star.
LOCATION:Hemphill Branch Library\, 2301 West Vandalia Road Greesnboro\, North Carolina 27407
CLASS:PUBLIC
END:VEVENT
END:VCALENDAR
