BEGIN:VCALENDAR
VERSION:2.0
PRODID:Greensboro, NC Calendar Creator
METHOD:PUBLISH
BEGIN:VEVENT
DTSTAMP:20180109T031834
DTSTART:20120207T190000
DTEND:20120207T203000
SUMMARY:Black History Month
DESCRIPTION:Pastor Marva Edwards speaks about her book <em>Bound to Be Free,</em> about her experience with&nbsp;domestic violence and her faith.
X-ALT-DESC;FMTTYPE=text/html:Pastor Marva Edwards speaks about her book <em>Bound to Be Free,</em> about her experience with&nbsp;domestic violence and her faith.
LOCATION:Hemphill Branch Library\, 2301 West Vandalia Road Greesnboro\, North Carolina 27407
CLASS:PUBLIC
END:VEVENT
END:VCALENDAR
