BEGIN:VCALENDAR
VERSION:2.0
PRODID:Greensboro, NC Calendar Creator
METHOD:PUBLISH
BEGIN:VEVENT
DTSTAMP:20180109T031834
DTSTART:20120223T140000
DTEND:20120223T150000
SUMMARY:Charlotte Hawkins Brown: Leading Lady
DESCRIPTION:Frachele Scott, site manager of the Charlotte Hawkins Brown Museum, will give a presentation on Dr. Charlotte Hawkins Brown in honor of Black History Month and Women's History Month. Brown founded the Palmer Memorial Institute, a unique private school for African Americans located in Sedalia.&nbsp;The museum&nbsp;is North Carolina's first historic site honoring an African American and the state's first historic site honoring a woman. Contact <a href="mailto:carole.brown@greensboro-nc.gov?subject=Charlotte%20Hawkins%20Brown%3A%20Leading%20Lady" shape="rect">Carole Campbell Brown</a>&nbsp;for more information.
X-ALT-DESC;FMTTYPE=text/html:Frachele Scott, site manager of the Charlotte Hawkins Brown Museum, will give a presentation on Dr. Charlotte Hawkins Brown in honor of Black History Month and Women's History Month. Brown founded the Palmer Memorial Institute, a unique private school for African Americans located in Sedalia.&nbsp;The museum&nbsp;is North Carolina's first historic site honoring an African American and the state's first historic site honoring a woman. Contact <a href="mailto:carole.brown@greensboro-nc.gov?subject=Charlotte%20Hawkins%20Brown%3A%20Leading%20Lady" shape="rect">Carole Campbell Brown</a>&nbsp;for more information.
LOCATION:Benjamin Branch Library\, 1530 Benjamin Parkway Greensboro\, North Carolina 27408
CLASS:PUBLIC
END:VEVENT
END:VCALENDAR
