BEGIN:VCALENDAR
VERSION:2.0
PRODID:Greensboro, NC Calendar Creator
METHOD:PUBLISH
BEGIN:VEVENT
DTSTAMP:20180109T031834
DTSTART:20120320T190000
DTEND:20120320T203000
SUMMARY:One City One Author: Reynolds Price
DESCRIPTION:Screening of <em>Pass It On: A Portrait of the Teaching Career of Reynolds Price.</em>
X-ALT-DESC;FMTTYPE=text/html:Screening of <em>Pass It On: A Portrait of the Teaching Career of Reynolds Price.</em>
LOCATION:Central Library\, 219 N. Church St. Greesnboro\, North Carolina 27401
CLASS:PUBLIC
END:VEVENT
END:VCALENDAR
