BEGIN:VCALENDAR
VERSION:2.0
PRODID:Greensboro, NC Calendar Creator
METHOD:PUBLISH
BEGIN:VEVENT
DTSTAMP:20180109T031834
DTSTART:20120218T143000
DTEND:20120218T153000
SUMMARY:African American Book Group
DESCRIPTION:Join us in discussing <em>Parable of the Sower</em>&nbsp;by Octavia Butler. Contact&nbsp;<a href="mailto:carole.brown@greensboro-nc.gov?subject=African%20American%20Book%20Group" shape="rect">Carole Campbell Brown</a> for more information or to borrow a copy of the book.
X-ALT-DESC;FMTTYPE=text/html:Join us in discussing <em>Parable of the Sower</em>&nbsp;by Octavia Butler. Contact&nbsp;<a href="mailto:carole.brown@greensboro-nc.gov?subject=African%20American%20Book%20Group" shape="rect">Carole Campbell Brown</a> for more information or to borrow a copy of the book.
LOCATION:Benjamin Branch Library\, 1530 Benjamin Parkway Greensboro\, North Carolina 27408
CLASS:PUBLIC
END:VEVENT
END:VCALENDAR
