BEGIN:VCALENDAR
VERSION:2.0
PRODID:Greensboro, NC Calendar Creator
METHOD:PUBLISH
BEGIN:VEVENT
DTSTAMP:20180109T031834
DTSTART:20120215T153000
DTEND:20120215T163000
SUMMARY:Mardi Gras Party
DESCRIPTION:Mardi Gras Party - Join the festivities with New Orleans' stories, your own masquerade mask, and a taste of king cake. For children in grades K-5.
X-ALT-DESC;FMTTYPE=text/html:Mardi Gras Party - Join the festivities with New Orleans' stories, your own masquerade mask, and a taste of king cake. For children in grades K-5.
LOCATION:Kathleen Clay Edwards Library\, 1420 Price Park Rd. Greensboro\, North Carolina 27410
CLASS:PUBLIC
END:VEVENT
END:VCALENDAR
