BEGIN:VCALENDAR
VERSION:2.0
PRODID:Greensboro, NC Calendar Creator
METHOD:PUBLISH
BEGIN:VEVENT
DTSTAMP:20180109T031834
DTSTART:20120229T160000
DTEND:20120229T170000
SUMMARY:After-School Program at McGirt-Horton
DESCRIPTION:Let's have fun with winter crafts!
X-ALT-DESC;FMTTYPE=text/html:Let's have fun with winter crafts!
LOCATION:McGirt-Horton Branch Library\, 2501 Phillips Ave. Greensboro\, North Carolina 27405
CLASS:PUBLIC
END:VEVENT
END:VCALENDAR
