BEGIN:VCALENDAR
VERSION:2.0
PRODID:Greensboro, NC Calendar Creator
METHOD:PUBLISH
BEGIN:VEVENT
DTSTAMP:20180109T031834
DTSTART:20120211T150000
DTEND:20120211T163000
SUMMARY:HB African American Literature Club
DESCRIPTION:&nbsp;Discussing <em>Silver Sparrow </em>by Tayari Jones.
X-ALT-DESC;FMTTYPE=text/html:&nbsp;Discussing <em>Silver Sparrow </em>by Tayari Jones.
LOCATION:Hemphill Branch Library\, 2301 West Vandalia Rd. Greensboro\, North Carolina 27407
CLASS:PUBLIC
END:VEVENT
END:VCALENDAR
