BEGIN:VCALENDAR
VERSION:2.0
PRODID:Greensboro, NC Calendar Creator
METHOD:PUBLISH
BEGIN:VEVENT
DTSTAMP:20180109T031834
DTSTART:20120215T153000
DTEND:20120215T173000
SUMMARY:Art Discovery
DESCRIPTION:Be creative with hands-on learning about art and new techniques! Children under 9 must be accompanied by an adult.
X-ALT-DESC;FMTTYPE=text/html:Be creative with hands-on learning about art and new techniques! Children under 9 must be accompanied by an adult.
LOCATION:Hemphill Branch Library\, 2301 West Vandalia Road Greensboro\, North Carolina 27407
CLASS:PUBLIC
END:VEVENT
END:VCALENDAR
