BEGIN:VCALENDAR
VERSION:2.0
PRODID:Greensboro, NC Calendar Creator
METHOD:PUBLISH
BEGIN:VEVENT
DTSTAMP:20180109T031834
DTSTART:20120221T140000
DTEND:20120221T150000
SUMMARY:Reader's Choice Book Group
DESCRIPTION:Please join as we discuss our latest reads. We'd love to hear about your latest reads.Contact <a href="mailto:marilyn.waddell@greensboro-nc.gov?subject=Reader%27s%20Choice%20Book%20Group" shape="rect">Marilyn Waddell</a>&nbsp;for more information.
X-ALT-DESC;FMTTYPE=text/html:Please join as we discuss our latest reads. We'd love to hear about your latest reads.Contact <a href="mailto:marilyn.waddell@greensboro-nc.gov?subject=Reader%27s%20Choice%20Book%20Group" shape="rect">Marilyn Waddell</a>&nbsp;for more information.
LOCATION:Benjamin Branch Library\, 1530 Benjamin Parkway Greensboro\, North Carolina 27408
CLASS:PUBLIC
END:VEVENT
END:VCALENDAR
