BEGIN:VCALENDAR
VERSION:2.0
PRODID:Greensboro, NC Calendar Creator
METHOD:PUBLISH
BEGIN:VEVENT
DTSTAMP:20180109T031834
DTSTART:20120229T181500
DTEND:20120229T190000
SUMMARY:Storytime at Benjamin Branch Library
DESCRIPTION:<strong>Choo-choo, Clickety Clack!: </strong>Join us for a storytime for the whole family with books, rhymes, a short film and a craft about trains.
X-ALT-DESC;FMTTYPE=text/html:<strong>Choo-choo, Clickety Clack!: </strong>Join us for a storytime for the whole family with books, rhymes, a short film and a craft about trains.
LOCATION:Benjamin Branch Library\, 1530 Benjamin Parkway Greensboro\, North Carolina 27408
CLASS:PUBLIC
END:VEVENT
END:VCALENDAR
