BEGIN:VCALENDAR
VERSION:2.0
PRODID:Greensboro, NC Calendar Creator
METHOD:PUBLISH
BEGIN:VEVENT
DTSTAMP:20180109T031834
DTSTART:20120221T180000
DTEND:20120221T190000
SUMMARY:Girl Power!
DESCRIPTION:Join us for our monthly physical fitness class to increase physical&nbsp;activity&nbsp;and get in shape!
X-ALT-DESC;FMTTYPE=text/html:Join us for our monthly physical fitness class to increase physical&nbsp;activity&nbsp;and get in shape!
LOCATION:McGirt-Horton Branch Library\, 2501 Phillips Ave. Greensboro\, North Carolina 27405
CLASS:PUBLIC
END:VEVENT
END:VCALENDAR
