BEGIN:VCALENDAR
VERSION:2.0
PRODID:Greensboro, NC Calendar Creator
METHOD:PUBLISH
BEGIN:VEVENT
DTSTAMP:20180109T031834
DTSTART:20120223T143000
DTEND:20120223T153000
SUMMARY:Tea and Books
DESCRIPTION:Join us for tea and a discussion of books we have been reading.&nbsp; New members are welcome.&nbsp;
X-ALT-DESC;FMTTYPE=text/html:Join us for tea and a discussion of books we have been reading.&nbsp; New members are welcome.&nbsp;
LOCATION:Kathleen Clay Edwards Library\, 1420 Price Park Rd. Greensboro\, North Carolina 27410
CLASS:PUBLIC
END:VEVENT
END:VCALENDAR
