BEGIN:VCALENDAR
VERSION:2.0
PRODID:Greensboro, NC Calendar Creator
METHOD:PUBLISH
BEGIN:VEVENT
DTSTAMP:20180109T031834
DTSTART:20120216T140000
DTEND:20120216T150000
SUMMARY:Mystery Book Club
DESCRIPTION:Discussing <em>The Coroner's Lunch </em>by Colin Cotterill.
X-ALT-DESC;FMTTYPE=text/html:Discussing <em>The Coroner's Lunch </em>by Colin Cotterill.
LOCATION:Kathleen Clay Edwards Library\, 1920 Price Park Rd. Greensboro\, North Carolina 27410
CLASS:PUBLIC
END:VEVENT
END:VCALENDAR
