BEGIN:VCALENDAR
VERSION:2.0
PRODID:Greensboro, NC Calendar Creator
METHOD:PUBLISH
BEGIN:VEVENT
DTSTAMP:20180109T031834
DTSTART:20120226T150000
DTEND:20120226T170000
SUMMARY:Central Library Book Discussion Group
DESCRIPTION:<span class="subtitle">Join the</span><em><strong><span class="subtitle">&nbsp;Central Library Book Discussion Group</span>,</strong></em>&nbsp;an eclectic group of book lovers who meet&nbsp;one Sunday of each month. <span class="subtitle2">New members&nbsp;are always welcome to join this group</span>. A limited number of discussion books are available for check out to group members on a first-come, first-served basis. To find out what we are reading or for more information, contact <a href="mailto:beth.sheffield@greensboro-nc.gov?subject=Central%20Book%20Discussion%20Group%20info" shape="rect">Beth Sheffield.</a>
X-ALT-DESC;FMTTYPE=text/html:<span class="subtitle">Join the</span><em><strong><span class="subtitle">&nbsp;Central Library Book Discussion Group</span>,</strong></em>&nbsp;an eclectic group of book lovers who meet&nbsp;one Sunday of each month. <span class="subtitle2">New members&nbsp;are always welcome to join this group</span>. A limited number of discussion books are available for check out to group members on a first-come, first-served basis. To find out what we are reading or for more information, contact <a href="mailto:beth.sheffield@greensboro-nc.gov?subject=Central%20Book%20Discussion%20Group%20info" shape="rect">Beth Sheffield.</a>
LOCATION:Central Library\, 219 North Church St. Greensboro\, North Carolina 27401
CLASS:PUBLIC
END:VEVENT
END:VCALENDAR
