BEGIN:VCALENDAR
VERSION:2.0
PRODID:Greensboro, NC Calendar Creator
METHOD:PUBLISH
BEGIN:VEVENT
DTSTAMP:20180109T031834
DTSTART:20120207T183000
DTEND:20120207T193000
SUMMARY:Family Night at Glenwood Library
DESCRIPTION:<strong>National Children's Dental Health Month</strong> - Stories about your "choppers" and how to take care of them. A special guest will be here to talk about the importance of regular dental check-ups. All ages welcome.
X-ALT-DESC;FMTTYPE=text/html:<strong>National Children's Dental Health Month</strong> - Stories about your "choppers" and how to take care of them. A special guest will be here to talk about the importance of regular dental check-ups. All ages welcome.
LOCATION:Glenwood Branch Library\, 1901 W Florida Street Greensboro\, North Carolina 27403
CLASS:PUBLIC
END:VEVENT
END:VCALENDAR
