BEGIN:VCALENDAR
VERSION:2.0
PRODID:Greensboro, NC Calendar Creator
METHOD:PUBLISH
BEGIN:VEVENT
DTSTAMP:20180109T031834
DTSTART:20120226T140000
DTEND:20120226T160000
SUMMARY:Knights of Vandalia Chess Club
DESCRIPTION:Learn to play or practice your strategies. All skill levels welcome; for ages 6 and up.
X-ALT-DESC;FMTTYPE=text/html:Learn to play or practice your strategies. All skill levels welcome; for ages 6 and up.
LOCATION:Hemphill Branch Library\, 2301 West Vandalia Road Greensboro\, North Carolina 27407
CLASS:PUBLIC
END:VEVENT
END:VCALENDAR
