BEGIN:VCALENDAR
VERSION:2.0
PRODID:Greensboro, NC Calendar Creator
METHOD:PUBLISH
BEGIN:VEVENT
DTSTAMP:20180109T031834
DTSTART:20120221T180000
DTEND:20120221T210000
SUMMARY:YA Book Club Presents
DESCRIPTION:Join us to watch the movie&nbsp;<a href="http://hiprpa.greensborolibrary.org/ipac20/ipac.jsp?session=132A878JS5861.8788&amp;profile=main&amp;uri=link=3100011~!41223~!3100001~!3100002&amp;aspect=basic_search&amp;menu=search&amp;ri=1&amp;source=~!horizon&amp;term=The+help+%5Bvideorecording%5D+%2F&amp;index=DTITL#focus" title="catalog record" target="_blank" shape="rect"><em>The Help</em></a>&nbsp;and discuss this popular book&nbsp;by Kathryn Stockett. Light refreshments will be served.
X-ALT-DESC;FMTTYPE=text/html:Join us to watch the movie&nbsp;<a href="http://hiprpa.greensborolibrary.org/ipac20/ipac.jsp?session=132A878JS5861.8788&amp;profile=main&amp;uri=link=3100011~!41223~!3100001~!3100002&amp;aspect=basic_search&amp;menu=search&amp;ri=1&amp;source=~!horizon&amp;term=The+help+%5Bvideorecording%5D+%2F&amp;index=DTITL#focus" title="catalog record" target="_blank" shape="rect"><em>The Help</em></a>&nbsp;and discuss this popular book&nbsp;by Kathryn Stockett. Light refreshments will be served.
LOCATION:Hemphill Branch Library\, 2301 West Vandalia Road Greensboro\, North Carolina 27407
CLASS:PUBLIC
END:VEVENT
END:VCALENDAR
