BEGIN:VCALENDAR
VERSION:2.0
PRODID:Greensboro, NC Calendar Creator
METHOD:PUBLISH
BEGIN:VEVENT
DTSTAMP:20180109T031834
DTSTART:20120218T110000
DTEND:20120218T130000
SUMMARY:Storytime at McGirt-Horton 
DESCRIPTION:Celebrate Black History Month with families and friends. Take part in a storytelling activity, a display of inventions, and more.
X-ALT-DESC;FMTTYPE=text/html:Celebrate Black History Month with families and friends. Take part in a storytelling activity, a display of inventions, and more.
LOCATION:McGirt-Horton Branch Library\, 2501 Phillips Ave. Greensboro\, North Carolina 27405
CLASS:PUBLIC
END:VEVENT
END:VCALENDAR
