BEGIN:VCALENDAR
VERSION:2.0
PRODID:Greensboro, NC Calendar Creator
METHOD:PUBLISH
BEGIN:VEVENT
DTSTAMP:20180109T031834
DTSTART:20120220T103000
DTEND:20120220T111500
SUMMARY:Story Time at Benjamin Branch Library
DESCRIPTION:<strong>Soup's On!: </strong>Join us for a toddler and preschool storytime with books, rhymes, a short film and a craft about everyone's favorite cold weather meal - soup!
X-ALT-DESC;FMTTYPE=text/html:<strong>Soup's On!: </strong>Join us for a toddler and preschool storytime with books, rhymes, a short film and a craft about everyone's favorite cold weather meal - soup!
LOCATION:Benjamin Branch Library\, 1530 Benjamin Parkway Greensboro\, North Carolina 27408
CLASS:PUBLIC
END:VEVENT
END:VCALENDAR
