BEGIN:VCALENDAR
VERSION:2.0
PRODID:Greensboro, NC Calendar Creator
METHOD:PUBLISH
BEGIN:VEVENT
DTSTAMP:20180109T031834
DTSTART:20120229T190000
DTEND:20120229T203000
SUMMARY:Family Fun Night
DESCRIPTION:Celebrate African American History with stories, games, and crafts!
X-ALT-DESC;FMTTYPE=text/html:Celebrate African American History with stories, games, and crafts!
LOCATION:Vance H. Chavis Branch\, 900 S. Benbow Rd Greensboro\, North Carolina 27406
CLASS:PUBLIC
END:VEVENT
END:VCALENDAR
