BEGIN:VCALENDAR
VERSION:2.0
PRODID:Greensboro, NC Calendar Creator
METHOD:PUBLISH
BEGIN:VEVENT
DTSTAMP:20180109T031834
DTSTART:20120201T103000
DTEND:20120201T113000
SUMMARY:Stories & More at Glenwood Library
DESCRIPTION:<strong>Birds of a Feather</strong> - February is National Bird-Feeding Month. Join us for stories about our feathered friends and make a bird feeder to take home.
X-ALT-DESC;FMTTYPE=text/html:<strong>Birds of a Feather</strong> - February is National Bird-Feeding Month. Join us for stories about our feathered friends and make a bird feeder to take home.
LOCATION:Glenwood Branch Library\, 1901 W Florida Street Greensboro\, North Carolina 27403
CLASS:PUBLIC
END:VEVENT
END:VCALENDAR
