BEGIN:VCALENDAR
VERSION:2.0
PRODID:Greensboro, NC Calendar Creator
METHOD:PUBLISH
BEGIN:VEVENT
DTSTAMP:20180109T031834
DTSTART:20120204T100000
DTEND:20120204T110000
SUMMARY:Family Place Workshop
DESCRIPTION:Enjoy a room full of toys plus music and art activities for children 12 months to 3 1/2 years. Parents and caregivers can network while children play together in a relaxed environment.
X-ALT-DESC;FMTTYPE=text/html:Enjoy a room full of toys plus music and art activities for children 12 months to 3 1/2 years. Parents and caregivers can network while children play together in a relaxed environment.
LOCATION:Central Library\, 219 N. Church St Greensboro\, North Carolina 27401
CLASS:PUBLIC
END:VEVENT
END:VCALENDAR
