BEGIN:VCALENDAR
VERSION:2.0
PRODID:Greensboro, NC Calendar Creator
METHOD:PUBLISH
BEGIN:VEVENT
DTSTAMP:20180109T031834
DTSTART:20120220T183000
DTEND:20120220T193000
SUMMARY:Family Game Night
DESCRIPTION:Fun for all ages with board games, puzzles, cards, and more!
X-ALT-DESC;FMTTYPE=text/html:Fun for all ages with board games, puzzles, cards, and more!
LOCATION:Hemphill Branch Library\, 2301 West Vandalia Road Greensboro\, North Carolina 27407
CLASS:PUBLIC
END:VEVENT
END:VCALENDAR
