BEGIN:VCALENDAR
VERSION:2.0
PRODID:Greensboro, NC Calendar Creator
METHOD:PUBLISH
BEGIN:VEVENT
DTSTAMP:20180109T031834
DTSTART:20120221T183000
DTEND:20120221T193000
SUMMARY:Family Night at Glenwood Library
DESCRIPTION:Come celebrate Fat Tuesday with a performance of Rachel Isadora's <em>Ben's Trumpet</em> by the after-schoolers at the Caldcleugh&nbsp;Multicultural Arts&nbsp;Center, and make a celebration mask.
X-ALT-DESC;FMTTYPE=text/html:Come celebrate Fat Tuesday with a performance of Rachel Isadora's <em>Ben's Trumpet</em> by the after-schoolers at the Caldcleugh&nbsp;Multicultural Arts&nbsp;Center, and make a celebration mask.
LOCATION:Glenwood Branch Library\, 1901 W. Florida Street Greensboro\, North Carolina 27403
CLASS:PUBLIC
END:VEVENT
END:VCALENDAR
