BEGIN:VCALENDAR
VERSION:2.0
PRODID:Greensboro, NC Calendar Creator
METHOD:PUBLISH
BEGIN:VEVENT
DTSTAMP:20180109T031834
DTSTART:20120207T183000
DTEND:20120207T200000
SUMMARY:Growing, The Green Way
DESCRIPTION:<strong>Proper Pruning Prevents Poor Plant Preformance <br /></strong>The art of pruning involves more than just electric shears and the production of green meatballs (yikes!). This class discusses the tools, techniques and timing for pruning small trees and shrubs,&nbsp;and how doing it right can produce healthier, prettier, and longer-lived plants. <br />
X-ALT-DESC;FMTTYPE=text/html:<strong>Proper Pruning Prevents Poor Plant Preformance <br /></strong>The art of pruning involves more than just electric shears and the production of green meatballs (yikes!). This class discusses the tools, techniques and timing for pruning small trees and shrubs,&nbsp;and how doing it right can produce healthier, prettier, and longer-lived plants. <br />
LOCATION:NC Cooperative Extension\, 3309 Burlington Road Greensboro\, North Carolina 27405
CLASS:PUBLIC
END:VEVENT
END:VCALENDAR
