BEGIN:VCALENDAR
VERSION:2.0
PRODID:Greensboro, NC Calendar Creator
METHOD:PUBLISH
BEGIN:VEVENT
DTSTAMP:20180109T031834
DTSTART:20120310T193000
DTEND:20120310T210000
SUMMARY:Choral Society of Greensboro OPUS Concert 
DESCRIPTION:Join the Choral Society of Greensboro, under the direction of Jon Brotherton, as it presents its winter OPUS Concert, which will feature Copland's <em>Old American Songs</em> and Thomas' <em>Frostiana</em>. For more information and a complete OPUS Schedule, visit the City Arts <a href="https://greensboro2.prod-as.govaccess.org/departments/parks-recreation/arts-culture/city-arts-and-events" shape="rect">website</a>.
X-ALT-DESC;FMTTYPE=text/html:Join the Choral Society of Greensboro, under the direction of Jon Brotherton, as it presents its winter OPUS Concert, which will feature Copland's <em>Old American Songs</em> and Thomas' <em>Frostiana</em>. For more information and a complete OPUS Schedule, visit the City Arts <a href="https://greensboro2.prod-as.govaccess.org/departments/parks-recreation/arts-culture/city-arts-and-events" shape="rect">website</a>.
LOCATION:Christ United Methodist Church\, 410 N. Holden Rd. Greensboro\, North Carolina 27410
CLASS:PUBLIC
END:VEVENT
END:VCALENDAR
