BEGIN:VCALENDAR
VERSION:2.0
PRODID:Greensboro, NC Calendar Creator
METHOD:PUBLISH
BEGIN:VEVENT
DTSTAMP:20180109T031834
DTSTART:20120121T100000
DTEND:20120121T110000
SUMMARY:Save Money Save Energy
DESCRIPTION:Learn how to save money by reducing your home energy costs, see hands-on demonstrations of ways to conserve energy and reduce your electric bill and learn to use tools to determine your energy usage. Participants will be entered into a drawing for an energy savings kit.
X-ALT-DESC;FMTTYPE=text/html:Learn how to save money by reducing your home energy costs, see hands-on demonstrations of ways to conserve energy and reduce your electric bill and learn to use tools to determine your energy usage. Participants will be entered into a drawing for an energy savings kit.
LOCATION:Hemphill Branch Library\, 2301 West Vandalia Rd. Greensboro\, North Carolina 27407
CLASS:PUBLIC
END:VEVENT
END:VCALENDAR
