BEGIN:VCALENDAR
VERSION:2.0
PRODID:Greensboro, NC Calendar Creator
METHOD:PUBLISH
BEGIN:VEVENT
DTSTAMP:20180109T031834
DTSTART:20120212T180000
DTEND:20120212T210000
SUMMARY:Greensboro Big Band, Sweet Sounds
DESCRIPTION:Put on your dancing shoes and celebrate Valentine's with the Greensboro Big Band's Annual "Sweet Sounds" dinner and dance. Admission is free. To purchase dinner, call 336-373-3803 or <a href="mailto:kathy.chatfield@greensboro-nc.gov?subject=Valentine%27s%20Tickets" shape="rect">e-mail</a>.
X-ALT-DESC;FMTTYPE=text/html:Put on your dancing shoes and celebrate Valentine's with the Greensboro Big Band's Annual "Sweet Sounds" dinner and dance. Admission is free. To purchase dinner, call 336-373-3803 or <a href="mailto:kathy.chatfield@greensboro-nc.gov?subject=Valentine%27s%20Tickets" shape="rect">e-mail</a>.
LOCATION:Bur-Mil Park Clubhouse\, 5834 Bur-Mil Club Road Greensboro\, North Carolina 27410
CLASS:PUBLIC
END:VEVENT
END:VCALENDAR
