BEGIN:VCALENDAR
VERSION:2.0
PRODID:Greensboro, NC Calendar Creator
METHOD:PUBLISH
BEGIN:VEVENT
DTSTAMP:20180109T031834
DTSTART:20120117T150000
DTEND:20120117T160000
SUMMARY:Reader's Choice Book Discussion Group
DESCRIPTION:Join us as we discuss books that we've been reading lately or tell us about your favorite books. If you would like more information about this book group, contact <a href="mailto:marilyn.waddell@greensboro-nc.gov?subject=Reader%27s%20Choice%20Book%20Club" shape="rect"></a><a href="mailto:marilyn.waddell@greenboro-nc.gov?subject=Reader%27s%20Choice%20Book%20Club" shape="rect">Marilyn Waddell</a>.
X-ALT-DESC;FMTTYPE=text/html:Join us as we discuss books that we've been reading lately or tell us about your favorite books. If you would like more information about this book group, contact <a href="mailto:marilyn.waddell@greensboro-nc.gov?subject=Reader%27s%20Choice%20Book%20Club" shape="rect"></a><a href="mailto:marilyn.waddell@greenboro-nc.gov?subject=Reader%27s%20Choice%20Book%20Club" shape="rect">Marilyn Waddell</a>.
LOCATION:Benjamin Branch Library\, 1530 Benjamin Parkway Greensboro\, North Carolina 27408
CLASS:PUBLIC
END:VEVENT
END:VCALENDAR
