BEGIN:VCALENDAR
VERSION:2.0
PRODID:Greensboro, NC Calendar Creator
METHOD:PUBLISH
BEGIN:VEVENT
DTSTAMP:20180109T031834
DTSTART:20120123T120000
DTEND:20120123T130000
SUMMARY:Benjamin Readers Book Club
DESCRIPTION:Join us as we discuss <em>Dragon Seed</em> by Pearl Buck.&nbsp;Contact <a href="mailto:marilyn.waddell@greensboro-nc.gov?subject=Benjamin%20Readers%20Book%20Club" shape="rect"></a><a href="mailto:marilyn.waddell@greensboro-nc.gov?subject=Benjamin%20Readers%20Book%20Club" shape="rect"></a><a href="mailto:marilyn.waddell@greensboro-nc.gov?subject=benjamin%20readers%20book%20club" shape="rect">Marilyn Waddell</a>&nbsp;for more information or to borrow a copy of the book.
X-ALT-DESC;FMTTYPE=text/html:Join us as we discuss <em>Dragon Seed</em> by Pearl Buck.&nbsp;Contact <a href="mailto:marilyn.waddell@greensboro-nc.gov?subject=Benjamin%20Readers%20Book%20Club" shape="rect"></a><a href="mailto:marilyn.waddell@greensboro-nc.gov?subject=Benjamin%20Readers%20Book%20Club" shape="rect"></a><a href="mailto:marilyn.waddell@greensboro-nc.gov?subject=benjamin%20readers%20book%20club" shape="rect">Marilyn Waddell</a>&nbsp;for more information or to borrow a copy of the book.
LOCATION:Benjamin Branch Library\, 1530 Benjamin Parkway Greensboro\, North Carolina 27408
CLASS:PUBLIC
END:VEVENT
END:VCALENDAR
