BEGIN:VCALENDAR
VERSION:2.0
PRODID:Greensboro, NC Calendar Creator
METHOD:PUBLISH
BEGIN:VEVENT
DTSTAMP:20180109T031834
DTSTART:20120202T083000
DTEND:20120202T100000
SUMMARY:Mayor's Committee for Persons with Disabilities
DESCRIPTION:
X-ALT-DESC;FMTTYPE=text/html:
LOCATION:Eastern Division Police Station\, 1106 Maple St. Greensboro\, North Carolina 
CLASS:PUBLIC
END:VEVENT
END:VCALENDAR
