BEGIN:VCALENDAR
VERSION:2.0
PRODID:Greensboro, NC Calendar Creator
METHOD:PUBLISH
BEGIN:VEVENT
DTSTAMP:20180109T031834
DTSTART:20120128T093000
DTEND:20120128T163000
SUMMARY:ESOL Tutor Training
DESCRIPTION:This class is for volunteers interested in tutoring English for Speakers of Other Languages (ESOL). Volunteering as an ESOL tutor is a great way to get involved at Glenwood Library, however, you must first attend this training. Anyone interested in being an ESOL tutor is welcome to attend regardless of where you wish to use these skills. Lunch will be provided and registration is required. Please call 336-297-5000 to register or for more information.
X-ALT-DESC;FMTTYPE=text/html:This class is for volunteers interested in tutoring English for Speakers of Other Languages (ESOL). Volunteering as an ESOL tutor is a great way to get involved at Glenwood Library, however, you must first attend this training. Anyone interested in being an ESOL tutor is welcome to attend regardless of where you wish to use these skills. Lunch will be provided and registration is required. Please call 336-297-5000 to register or for more information.
LOCATION:Glenwood Branch Library\, 1901 W Florida Street Greensboro\, North Carolina 27403
CLASS:PUBLIC
END:VEVENT
END:VCALENDAR
