BEGIN:VCALENDAR
VERSION:2.0
PRODID:Greensboro, NC Calendar Creator
METHOD:PUBLISH
BEGIN:VEVENT
DTSTAMP:20180109T031834
DTSTART:20120305T183000
DTEND:20120305T193000
SUMMARY:Growing. The Green Way.
DESCRIPTION:An abundance of large trees and shady areas in your yard can be a challenge to the creative gardener. Gardening in the shade doesn&rsquo;t have to be frustrating. Join us to learn about the vast array of flowering annuals, perennials, bulbs and woodland plants to brighten and add color to that shady lawn.
X-ALT-DESC;FMTTYPE=text/html:An abundance of large trees and shady areas in your yard can be a challenge to the creative gardener. Gardening in the shade doesn&rsquo;t have to be frustrating. Join us to learn about the vast array of flowering annuals, perennials, bulbs and woodland plants to brighten and add color to that shady lawn.
LOCATION:Kathleen Clay Edwards Library\, 1420 Price Park Road Greensboro\, North Carolina 27410
CLASS:PUBLIC
END:VEVENT
END:VCALENDAR
