BEGIN:VCALENDAR
VERSION:2.0
PRODID:Greensboro, NC Calendar Creator
METHOD:PUBLISH
BEGIN:VEVENT
DTSTAMP:20180109T031834
DTSTART:20120221T183000
DTEND:20120221T193000
SUMMARY:Growing. The Green Way.
DESCRIPTION:
X-ALT-DESC;FMTTYPE=text/html:
LOCATION:Guilford County Cooperative Extension\, 3309 Burlington Road Greensboro\, North Carolina 27405
CLASS:PUBLIC
END:VEVENT
END:VCALENDAR
