BEGIN:VCALENDAR
VERSION:2.0
PRODID:Greensboro, NC Calendar Creator
METHOD:PUBLISH
BEGIN:VEVENT
DTSTAMP:20180109T031834
DTSTART:20120124T180000
DTEND:20120124T200000
SUMMARY:How to Write a Business Plan
DESCRIPTION:The business plan is a fundamental part of a small business or nonprofit venture. This workshop covers the key sections of a quality business plan and gives sound advice on content. Learn the many library resources that can plug valuable statistics and market research into your plan.
X-ALT-DESC;FMTTYPE=text/html:The business plan is a fundamental part of a small business or nonprofit venture. This workshop covers the key sections of a quality business plan and gives sound advice on content. Learn the many library resources that can plug valuable statistics and market research into your plan.
LOCATION:Central Library\, 219 N. Church Street Greensboro\, North Carolina 27401
CLASS:PUBLIC
END:VEVENT
END:VCALENDAR
