BEGIN:VCALENDAR
VERSION:2.0
PRODID:Greensboro, NC Calendar Creator
METHOD:PUBLISH
BEGIN:VEVENT
DTSTAMP:20180109T031834
DTSTART:20120117T180000
DTEND:20120117T200000
SUMMARY:Financing Your Small Business
DESCRIPTION:This GTCC Small Business Center program offers information about various funding options for small business start-ups.&nbsp;Learn about the&nbsp;Small Business Association&nbsp;(SBA) and other lending institutions.
X-ALT-DESC;FMTTYPE=text/html:This GTCC Small Business Center program offers information about various funding options for small business start-ups.&nbsp;Learn about the&nbsp;Small Business Association&nbsp;(SBA) and other lending institutions.
LOCATION:Central Library\, 219 N. Church Street Greensboro\, North Carolina 27401
CLASS:PUBLIC
END:VEVENT
END:VCALENDAR
