BEGIN:VCALENDAR
VERSION:2.0
PRODID:Greensboro, NC Calendar Creator
METHOD:PUBLISH
BEGIN:VEVENT
DTSTAMP:20180109T031834
DTSTART:20120111T160000
DTEND:20120111T170000
SUMMARY:Celebrate Dr. Martin Luther King, Jr.'s Birthday
DESCRIPTION:<p>Come watch the movie, <em>Our Friend Martin, </em>Rated-PG, 60 minutes.</p>
X-ALT-DESC;FMTTYPE=text/html:<p>Come watch the movie, <em>Our Friend Martin, </em>Rated-PG, 60 minutes.</p>
LOCATION:McGirt-Horton Branch Library\, 2501 Phillips Ave. Greensboro\, North Carolina 27405
CLASS:PUBLIC
END:VEVENT
END:VCALENDAR
