BEGIN:VCALENDAR
VERSION:2.0
PRODID:Greensboro, NC Calendar Creator
METHOD:PUBLISH
BEGIN:VEVENT
DTSTAMP:20180109T031834
DTSTART:20120119T190000
DTEND:20120119T200000
SUMMARY:Birding by Boat
DESCRIPTION:This program is an introduction to North Carolina's Offshore Pelagic Birding.&nbsp;Jeff Pippin,&nbsp;who teaches&nbsp;at Duke University's Nicholas School of the Environment, will share his extensive birding skills. Having birded in nine countries, he has seen more than 1,600 bird species. <br />
X-ALT-DESC;FMTTYPE=text/html:This program is an introduction to North Carolina's Offshore Pelagic Birding.&nbsp;Jeff Pippin,&nbsp;who teaches&nbsp;at Duke University's Nicholas School of the Environment, will share his extensive birding skills. Having birded in nine countries, he has seen more than 1,600 bird species. <br />
LOCATION:Kathleen Clay Library\, 1420 Price Park Rd. Greensboro\, North Carolina 27410
CLASS:PUBLIC
END:VEVENT
END:VCALENDAR
