BEGIN:VCALENDAR
VERSION:2.0
PRODID:Greensboro, NC Calendar Creator
METHOD:PUBLISH
BEGIN:VEVENT
DTSTAMP:20180109T031834
DTSTART:20120119T190000
DTEND:20120119T204500
SUMMARY:Health Care Fact and Fiction: A Community Read
DESCRIPTION:Screening of documentary <em>Money Driven Medicine: What's Wrong with America's Health Care and How to Fix It.</em>
X-ALT-DESC;FMTTYPE=text/html:Screening of documentary <em>Money Driven Medicine: What's Wrong with America's Health Care and How to Fix It.</em>
LOCATION:Hemphill Branch Library\, 2301 W. Vandalia Rd. Greensboro\, North Carolina 27407
CLASS:PUBLIC
END:VEVENT
END:VCALENDAR
