BEGIN:VCALENDAR
VERSION:2.0
PRODID:Greensboro, NC Calendar Creator
METHOD:PUBLISH
BEGIN:VEVENT
DTSTAMP:20180109T031834
DTSTART:20120126T190000
DTEND:20120126T203000
SUMMARY:Family Fun Night
DESCRIPTION:Join us for an evening of fun activities!
X-ALT-DESC;FMTTYPE=text/html:Join us for an evening of fun activities!
LOCATION:Vance H. Chavis Branch\, 900 S. Benbow Rd Greensboro\, North Carolina 27406
CLASS:PUBLIC
END:VEVENT
END:VCALENDAR
