BEGIN:VCALENDAR
VERSION:2.0
PRODID:Greensboro, NC Calendar Creator
METHOD:PUBLISH
BEGIN:VEVENT
DTSTAMP:20180109T031834
DTSTART:20120111T150000
DTEND:20120111T160000
SUMMARY:Circus Clown Fun
DESCRIPTION:Visit with a clown from the Ringling Brothers and Barnum &amp; Bailey Circus.
X-ALT-DESC;FMTTYPE=text/html:Visit with a clown from the Ringling Brothers and Barnum &amp; Bailey Circus.
LOCATION:Hemphill Branch Library\, 2301 W. Vandalia Rd. Greensboro\, North Carolina 27407
CLASS:PUBLIC
END:VEVENT
END:VCALENDAR
