BEGIN:VCALENDAR
VERSION:2.0
PRODID:Greensboro, NC Calendar Creator
METHOD:PUBLISH
BEGIN:VEVENT
DTSTAMP:20180109T031834
DTSTART:20120125T103000
DTEND:20120125T113000
SUMMARY:Stories & More at Glenwood Library
DESCRIPTION:For Laughing Out Loud - Join us for these tickle-your-funnybone-stories. This is a preschool storytime for ages 2-5. Parents are welcome.
X-ALT-DESC;FMTTYPE=text/html:For Laughing Out Loud - Join us for these tickle-your-funnybone-stories. This is a preschool storytime for ages 2-5. Parents are welcome.
LOCATION:Glenwood Branch Library\, 1901 W Florida Street Greensboro\, North Carolina 27403
CLASS:PUBLIC
END:VEVENT
END:VCALENDAR
