BEGIN:VCALENDAR
VERSION:2.0
PRODID:Greensboro, NC Calendar Creator
METHOD:PUBLISH
BEGIN:VEVENT
DTSTAMP:20180109T031834
DTSTART:20120111T160000
DTEND:20120111T173000
SUMMARY:After School Movie
DESCRIPTION:Will love allow&nbsp;garden gnomes to put an end to their family feud? Rated G, 84 min., 2011.
X-ALT-DESC;FMTTYPE=text/html:Will love allow&nbsp;garden gnomes to put an end to their family feud? Rated G, 84 min., 2011.
LOCATION:Vance H. Chavis Branch\, 900 S. Benbow Rd Greensboro\, North Carolina 27406
CLASS:PUBLIC
END:VEVENT
END:VCALENDAR
