BEGIN:VCALENDAR
VERSION:2.0
PRODID:Greensboro, NC Calendar Creator
METHOD:PUBLISH
BEGIN:VEVENT
DTSTAMP:20180109T031834
DTSTART:20120114T101500
DTEND:20120114T153000
SUMMARY:Let's Get Curious at Library Day with Curious George
DESCRIPTION:Meet Curious George in the Children's Museum parking lot at 10:25 am for a parade through the Curious George exhibit. Then, it's on to the Library for Storytime from 10:30-11 am. From 12 noon to&nbsp;1:30 pm, enjoy a Movie Matinee,&nbsp;<em>Curious George: A Day at the Library; </em>Rated G. Lastly, join us for Curious George stories, crafts and more in the Children's Room from 2-3:30 pm. Coloring activities&nbsp;and books available all day.
X-ALT-DESC;FMTTYPE=text/html:Meet Curious George in the Children's Museum parking lot at 10:25 am for a parade through the Curious George exhibit. Then, it's on to the Library for Storytime from 10:30-11 am. From 12 noon to&nbsp;1:30 pm, enjoy a Movie Matinee,&nbsp;<em>Curious George: A Day at the Library; </em>Rated G. Lastly, join us for Curious George stories, crafts and more in the Children's Room from 2-3:30 pm. Coloring activities&nbsp;and books available all day.
LOCATION:Central Library\, 219 N. Church St. Greensboro\, North Carolina 27401
CLASS:PUBLIC
END:VEVENT
END:VCALENDAR
