BEGIN:VCALENDAR
VERSION:2.0
PRODID:Greensboro, NC Calendar Creator
METHOD:PUBLISH
BEGIN:VEVENT
DTSTAMP:20180109T031834
DTSTART:20120105T184500
DTEND:20120105T204500
SUMMARY:Teen Movie Night
DESCRIPTION:Get an inside view on the founding of Facebook. Rated PG-13, 120 min., 2010.
X-ALT-DESC;FMTTYPE=text/html:Get an inside view on the founding of Facebook. Rated PG-13, 120 min., 2010.
LOCATION:Vance H. Chavis Branch\, 900 S. Benbow Rd. Greensboro\, North Carolina 27406
CLASS:PUBLIC
END:VEVENT
END:VCALENDAR
