BEGIN:VCALENDAR
VERSION:2.0
PRODID:Greensboro, NC Calendar Creator
METHOD:PUBLISH
BEGIN:VEVENT
DTSTAMP:20180109T031834
DTSTART:20120208T153000
DTEND:20120208T163000
SUMMARY:Growing Green Salad 
DESCRIPTION:Help us plant our salad garden using season extenders. Take home some seeds for your own salad greens. This is an indoor and outdoor program for children in grades K through&nbsp;5.
X-ALT-DESC;FMTTYPE=text/html:Help us plant our salad garden using season extenders. Take home some seeds for your own salad greens. This is an indoor and outdoor program for children in grades K through&nbsp;5.
LOCATION:Kathleen Clay Library\, 1420 Price Park Rd. Greensboro\, North Carolina 27410
CLASS:PUBLIC
END:VEVENT
END:VCALENDAR
