BEGIN:VCALENDAR
VERSION:2.0
PRODID:Greensboro, NC Calendar Creator
METHOD:PUBLISH
BEGIN:VEVENT
DTSTAMP:20180109T031834
DTSTART:20120125T190000
DTEND:20120125T203000
SUMMARY:Dora Hiers Discussion and Book Signing
DESCRIPTION:Author&nbsp;Dora Hiers&nbsp;will discuss and sign copies of her book, <em>Journey's End.</em>
X-ALT-DESC;FMTTYPE=text/html:Author&nbsp;Dora Hiers&nbsp;will discuss and sign copies of her book, <em>Journey's End.</em>
LOCATION:Hemphill Branch Library\, 2301 W. Vandalia Rd. Greensboro\, North Carolina 27407
CLASS:PUBLIC
END:VEVENT
END:VCALENDAR
